BEGIN:VCALENDAR
VERSION:2.0
PRODID:-//Los Angeles Rod &amp; Reel Club - ECPv6.15.18//NONSGML v1.0//EN
CALSCALE:GREGORIAN
METHOD:PUBLISH
X-ORIGINAL-URL:https://larrc.org
X-WR-CALDESC:Events for Los Angeles Rod &amp; Reel Club
REFRESH-INTERVAL;VALUE=DURATION:PT1H
X-Robots-Tag:noindex
X-PUBLISHED-TTL:PT1H
BEGIN:VTIMEZONE
TZID:America/Los_Angeles
BEGIN:DAYLIGHT
TZOFFSETFROM:-0800
TZOFFSETTO:-0700
TZNAME:PDT
DTSTART:20230312T100000
END:DAYLIGHT
BEGIN:STANDARD
TZOFFSETFROM:-0700
TZOFFSETTO:-0800
TZNAME:PST
DTSTART:20231105T090000
END:STANDARD
BEGIN:DAYLIGHT
TZOFFSETFROM:-0800
TZOFFSETTO:-0700
TZNAME:PDT
DTSTART:20240310T100000
END:DAYLIGHT
BEGIN:STANDARD
TZOFFSETFROM:-0700
TZOFFSETTO:-0800
TZNAME:PST
DTSTART:20241103T090000
END:STANDARD
BEGIN:DAYLIGHT
TZOFFSETFROM:-0800
TZOFFSETTO:-0700
TZNAME:PDT
DTSTART:20250309T100000
END:DAYLIGHT
BEGIN:STANDARD
TZOFFSETFROM:-0700
TZOFFSETTO:-0800
TZNAME:PST
DTSTART:20251102T090000
END:STANDARD
BEGIN:DAYLIGHT
TZOFFSETFROM:-0800
TZOFFSETTO:-0700
TZNAME:PDT
DTSTART:20260308T100000
END:DAYLIGHT
BEGIN:STANDARD
TZOFFSETFROM:-0700
TZOFFSETTO:-0800
TZNAME:PST
DTSTART:20261101T090000
END:STANDARD
BEGIN:DAYLIGHT
TZOFFSETFROM:-0800
TZOFFSETTO:-0700
TZNAME:PDT
DTSTART:20270314T100000
END:DAYLIGHT
BEGIN:STANDARD
TZOFFSETFROM:-0700
TZOFFSETTO:-0800
TZNAME:PST
DTSTART:20271107T090000
END:STANDARD
END:VTIMEZONE
BEGIN:VEVENT
DTSTART;TZID=America/Los_Angeles:20241125T180000
DTEND;TZID=America/Los_Angeles:20241125T210000
DTSTAMP:20260422T145324
CREATED:20240102T004702Z
LAST-MODIFIED:20240102T004702Z
UID:3381-1732557600-1732568400@larrc.org
SUMMARY:Dinner Meeting - November
DESCRIPTION:Dinner Meeting at Lulu’s Restaurant\, Van Nuys
URL:https://larrc.org/event/dinner-meeting-nov/
LOCATION:Lulu’s Restaurant & Sports Bar\, 16900 Roscoe Blvd.\, Van Nuys\, CA\, 91406\, United States
CATEGORIES:Meetings
END:VEVENT
BEGIN:VEVENT
DTSTART;TZID=America/Los_Angeles:20241223T180000
DTEND;TZID=America/Los_Angeles:20241223T210000
DTSTAMP:20260422T145324
CREATED:20240102T004832Z
LAST-MODIFIED:20240102T004832Z
UID:3383-1734976800-1734987600@larrc.org
SUMMARY:Board of Directors Meeting - December
DESCRIPTION:Board of Directors Meeting via Zoom
URL:https://larrc.org/event/board-of-directors-meeting-december/
LOCATION:Zoom
CATEGORIES:Meetings
END:VEVENT
BEGIN:VEVENT
DTSTART;TZID=America/Los_Angeles:20250120T180000
DTEND;TZID=America/Los_Angeles:20250120T210000
DTSTAMP:20260422T145324
CREATED:20240102T004936Z
LAST-MODIFIED:20240102T004936Z
UID:3385-1737396000-1737406800@larrc.org
SUMMARY:Board of Directors Meeting - January
DESCRIPTION:Board of Directors Meeting via Zoom
URL:https://larrc.org/event/board-of-directors-meeting-jan/
LOCATION:Zoom
CATEGORIES:Meetings
END:VEVENT
BEGIN:VEVENT
DTSTART;TZID=America/Los_Angeles:20250120T180000
DTEND;TZID=America/Los_Angeles:20250120T210000
DTSTAMP:20260422T145324
CREATED:20240102T005219Z
LAST-MODIFIED:20240102T005219Z
UID:3388-1737396000-1737406800@larrc.org
SUMMARY:Dinner Meeting - January
DESCRIPTION:Dinner Meeting at Lulu’s Restaurant\, Van Nuys
URL:https://larrc.org/event/dinner-meeting-jan/
LOCATION:Lulu’s Restaurant & Sports Bar\, 16900 Roscoe Blvd.\, Van Nuys\, CA\, 91406\, United States
CATEGORIES:Meetings
END:VEVENT
BEGIN:VEVENT
DTSTART;TZID=America/Los_Angeles:20250609T080000
DTEND;TZID=America/Los_Angeles:20250609T170000
DTSTAMP:20260422T145324
CREATED:20250613T145547Z
LAST-MODIFIED:20250613T145547Z
UID:3571-1749456000-1749488400@larrc.org
SUMMARY:Mentors' Trip
DESCRIPTION:
URL:https://larrc.org/event/mentors-trip-3/
END:VEVENT
BEGIN:VEVENT
DTSTART;TZID=America/Los_Angeles:20250621T080000
DTEND;TZID=America/Los_Angeles:20250621T170000
DTSTAMP:20260422T145324
CREATED:20250613T144141Z
LAST-MODIFIED:20250613T144141Z
UID:3572-1750492800-1750525200@larrc.org
SUMMARY:Twilight Trip
DESCRIPTION:
URL:https://larrc.org/event/twilight-trip/
END:VEVENT
BEGIN:VEVENT
DTSTART;TZID=America/Los_Angeles:20250623T080000
DTEND;TZID=America/Los_Angeles:20250623T210000
DTSTAMP:20260422T145324
CREATED:20250613T144153Z
LAST-MODIFIED:20250613T145528Z
UID:3573-1750665600-1750712400@larrc.org
SUMMARY:Board Meeting
DESCRIPTION:
URL:https://larrc.org/event/board-meeting-18/
END:VEVENT
BEGIN:VEVENT
DTSTART;TZID=America/Los_Angeles:20250624T080000
DTEND;TZID=America/Los_Angeles:20250624T170000
DTSTAMP:20260422T145324
CREATED:20250613T144204Z
LAST-MODIFIED:20250613T144204Z
UID:3574-1750752000-1750784400@larrc.org
SUMMARY:Mentors Trip
DESCRIPTION:
URL:https://larrc.org/event/mentors-trip-2/
END:VEVENT
BEGIN:VEVENT
DTSTART;TZID=America/Los_Angeles:20250626T080000
DTEND;TZID=America/Los_Angeles:20250626T170000
DTSTAMP:20260422T145324
CREATED:20250613T144213Z
LAST-MODIFIED:20250613T144214Z
UID:3575-1750924800-1750957200@larrc.org
SUMMARY:Veterans' Trip
DESCRIPTION:
URL:https://larrc.org/event/veterans-trip-2/
END:VEVENT
BEGIN:VEVENT
DTSTART;TZID=America/Los_Angeles:20250630T180000
DTEND;TZID=America/Los_Angeles:20250630T210000
DTSTAMP:20260422T145324
CREATED:20250613T144304Z
LAST-MODIFIED:20250613T144304Z
UID:3576-1751306400-1751317200@larrc.org
SUMMARY:Dinner Meeting
DESCRIPTION:Dinner Meeting at Lulu’s Restaurant\, Van Nuys
URL:https://larrc.org/event/dinner-meeting-26/
END:VEVENT
BEGIN:VEVENT
DTSTART;TZID=America/Los_Angeles:20250707T080000
DTEND;TZID=America/Los_Angeles:20250707T170000
DTSTAMP:20260422T145324
CREATED:20250613T144316Z
LAST-MODIFIED:20250613T144316Z
UID:3577-1751875200-1751907600@larrc.org
SUMMARY:Annual Kids' Trip
DESCRIPTION:
URL:https://larrc.org/event/annual-kids-trip/
END:VEVENT
BEGIN:VEVENT
DTSTART;TZID=America/Los_Angeles:20250721T080000
DTEND;TZID=America/Los_Angeles:20250721T170000
DTSTAMP:20260422T145324
CREATED:20250613T144326Z
LAST-MODIFIED:20250613T145633Z
UID:3578-1753084800-1753117200@larrc.org
SUMMARY:Board Meeting
DESCRIPTION:
URL:https://larrc.org/event/board-meeting-19/
CATEGORIES:Meetings
END:VEVENT
BEGIN:VEVENT
DTSTART;TZID=America/Los_Angeles:20250724T080000
DTEND;TZID=America/Los_Angeles:20250724T170000
DTSTAMP:20260422T145324
CREATED:20250613T144336Z
LAST-MODIFIED:20250613T145726Z
UID:3579-1753344000-1753376400@larrc.org
SUMMARY:King of the Club Charter
DESCRIPTION:
URL:https://larrc.org/event/king-of-the-club-charter/
CATEGORIES:Charter
END:VEVENT
BEGIN:VEVENT
DTSTART;TZID=America/Los_Angeles:20250728T180000
DTEND;TZID=America/Los_Angeles:20250728T210000
DTSTAMP:20260422T145324
CREATED:20250613T144412Z
LAST-MODIFIED:20250613T145633Z
UID:3580-1753725600-1753736400@larrc.org
SUMMARY:Dinner Meeting
DESCRIPTION:Dinner Meeting at Lulu’s Restaurant\, Van Nuys
URL:https://larrc.org/event/dinner-meeting-27/
CATEGORIES:Meetings
END:VEVENT
BEGIN:VEVENT
DTSTART;TZID=America/Los_Angeles:20250814T080000
DTEND;TZID=America/Los_Angeles:20250814T170000
DTSTAMP:20260422T145324
CREATED:20250613T144425Z
LAST-MODIFIED:20250613T145712Z
UID:3581-1755158400-1755190800@larrc.org
SUMMARY:Veterans' Trip
DESCRIPTION:
URL:https://larrc.org/event/veterans-trip-3/
CATEGORIES:Fishing Trip
END:VEVENT
BEGIN:VEVENT
DTSTART;TZID=America/Los_Angeles:20250818T080000
DTEND;TZID=America/Los_Angeles:20250818T170000
DTSTAMP:20260422T145324
CREATED:20250613T144436Z
LAST-MODIFIED:20250613T145632Z
UID:3582-1755504000-1755536400@larrc.org
SUMMARY:Board Meeting
DESCRIPTION:
URL:https://larrc.org/event/board-meeting-20/
CATEGORIES:Meetings
END:VEVENT
BEGIN:VEVENT
DTSTART;TZID=America/Los_Angeles:20250825T180000
DTEND;TZID=America/Los_Angeles:20250825T210000
DTSTAMP:20260422T145324
CREATED:20250613T144505Z
LAST-MODIFIED:20250613T145632Z
UID:3583-1756144800-1756155600@larrc.org
SUMMARY:Dinner Meeting
DESCRIPTION:Dinner Meeting at Lulu’s Restaurant\, Van Nuys
URL:https://larrc.org/event/dinner-meeting-28/
CATEGORIES:Meetings
END:VEVENT
BEGIN:VEVENT
DTSTART;TZID=America/Los_Angeles:20250922T080000
DTEND;TZID=America/Los_Angeles:20250922T170000
DTSTAMP:20260422T145324
CREATED:20250613T144518Z
LAST-MODIFIED:20250613T145632Z
UID:3584-1758528000-1758560400@larrc.org
SUMMARY:Board Meeting
DESCRIPTION:
URL:https://larrc.org/event/board-meeting-21/
CATEGORIES:Meetings
END:VEVENT
BEGIN:VEVENT
DTSTART;TZID=America/Los_Angeles:20250929T180000
DTEND;TZID=America/Los_Angeles:20250929T210000
DTSTAMP:20260422T145324
CREATED:20250613T144540Z
LAST-MODIFIED:20250613T145632Z
UID:3585-1759168800-1759179600@larrc.org
SUMMARY:Dinner Meeting
DESCRIPTION:Dinner Meeting at Lulu’s Restaurant\, Van Nuys
URL:https://larrc.org/event/dinner-meeting-29/
CATEGORIES:Meetings
END:VEVENT
BEGIN:VEVENT
DTSTART;TZID=America/Los_Angeles:20251009T080000
DTEND;TZID=America/Los_Angeles:20251009T170000
DTSTAMP:20260422T145324
CREATED:20250613T144559Z
LAST-MODIFIED:20250613T145712Z
UID:3586-1759996800-1760029200@larrc.org
SUMMARY:Veterans' Trip
DESCRIPTION:
URL:https://larrc.org/event/veterans-trip-4/
CATEGORIES:Fishing Trip
END:VEVENT
BEGIN:VEVENT
DTSTART;TZID=America/Los_Angeles:20251020T080000
DTEND;TZID=America/Los_Angeles:20251020T170000
DTSTAMP:20260422T145324
CREATED:20250613T144615Z
LAST-MODIFIED:20250613T145632Z
UID:3587-1760947200-1760979600@larrc.org
SUMMARY:Board Meeting
DESCRIPTION:
URL:https://larrc.org/event/board-meeting-22/
CATEGORIES:Meetings
END:VEVENT
BEGIN:VEVENT
DTSTART;TZID=America/Los_Angeles:20251027T180000
DTEND;TZID=America/Los_Angeles:20251027T210000
DTSTAMP:20260422T145324
CREATED:20250613T144644Z
LAST-MODIFIED:20250613T145631Z
UID:3588-1761588000-1761598800@larrc.org
SUMMARY:Dinner Meeting
DESCRIPTION:Dinner Meeting at Lulu’s Restaurant\, Van Nuys
URL:https://larrc.org/event/dinner-meeting-30/
CATEGORIES:Meetings
END:VEVENT
BEGIN:VEVENT
DTSTART;TZID=America/Los_Angeles:20251028T180000
DTEND;TZID=America/Los_Angeles:20251028T210000
DTSTAMP:20260422T145324
CREATED:20250613T144707Z
LAST-MODIFIED:20250613T145726Z
UID:3589-1761674400-1761685200@larrc.org
SUMMARY:Navegante Charter
DESCRIPTION:
URL:https://larrc.org/event/navegante-charter/
CATEGORIES:Charter
END:VEVENT
BEGIN:VEVENT
DTSTART;TZID=America/Los_Angeles:20251113T080000
DTEND;TZID=America/Los_Angeles:20251113T170000
DTSTAMP:20260422T145324
CREATED:20250613T144735Z
LAST-MODIFIED:20250613T145712Z
UID:3590-1763020800-1763053200@larrc.org
SUMMARY:Veterans' Trip
DESCRIPTION:
URL:https://larrc.org/event/veterans-trip-5/
CATEGORIES:Fishing Trip
END:VEVENT
BEGIN:VEVENT
DTSTART;TZID=America/Los_Angeles:20251117T080000
DTEND;TZID=America/Los_Angeles:20251117T170000
DTSTAMP:20260422T145324
CREATED:20250613T144749Z
LAST-MODIFIED:20250613T145631Z
UID:3591-1763366400-1763398800@larrc.org
SUMMARY:Board Meeting
DESCRIPTION:
URL:https://larrc.org/event/board-meeting-23/
CATEGORIES:Meetings
END:VEVENT
BEGIN:VEVENT
DTSTART;TZID=America/Los_Angeles:20251124T180000
DTEND;TZID=America/Los_Angeles:20251124T210000
DTSTAMP:20260422T145324
CREATED:20250613T144803Z
LAST-MODIFIED:20250613T145631Z
UID:3592-1764007200-1764018000@larrc.org
SUMMARY:Dinner Meeting
DESCRIPTION:Dinner Meeting at Lulu’s Restaurant\, Van Nuys
URL:https://larrc.org/event/dinner-meeting-31/
CATEGORIES:Meetings
END:VEVENT
BEGIN:VEVENT
DTSTART;TZID=America/Los_Angeles:20251222T080000
DTEND;TZID=America/Los_Angeles:20251222T170000
DTSTAMP:20260422T145324
CREATED:20250613T144819Z
LAST-MODIFIED:20250613T145631Z
UID:3593-1766390400-1766422800@larrc.org
SUMMARY:Board Meeting
DESCRIPTION:
URL:https://larrc.org/event/board-meeting-24/
CATEGORIES:Meetings
END:VEVENT
BEGIN:VEVENT
DTSTART;TZID=America/Los_Angeles:20260119T080000
DTEND;TZID=America/Los_Angeles:20260119T170000
DTSTAMP:20260422T145324
CREATED:20250613T144838Z
LAST-MODIFIED:20250613T145631Z
UID:3594-1768809600-1768842000@larrc.org
SUMMARY:Board Meeting
DESCRIPTION:
URL:https://larrc.org/event/board-meeting-25/
CATEGORIES:Meetings
END:VEVENT
BEGIN:VEVENT
DTSTART;TZID=America/Los_Angeles:20260126T080000
DTEND;TZID=America/Los_Angeles:20260126T170000
DTSTAMP:20260422T145324
CREATED:20250613T144853Z
LAST-MODIFIED:20260107T094005Z
UID:3595-1769414400-1769446800@larrc.org
SUMMARY:Dinner Meeting
DESCRIPTION:Dinner Meeting at Lulu’s Restaurant\, Van Nuys
URL:https://larrc.org/event/dinner-meeting-32/
CATEGORIES:Meetings
END:VEVENT
BEGIN:VEVENT
DTSTART;TZID=America/Los_Angeles:20260215T080000
DTEND;TZID=America/Los_Angeles:20260215T170000
DTSTAMP:20260422T145324
CREATED:20250613T144923Z
LAST-MODIFIED:20250613T145601Z
UID:3597-1771142400-1771174800@larrc.org
SUMMARY:Annual Banquet
DESCRIPTION:
URL:https://larrc.org/event/annual-banquet/
CATEGORIES:Special Event
END:VEVENT
END:VCALENDAR