BEGIN:VCALENDAR
VERSION:2.0
PRODID:-//Los Angeles Rod &amp; Reel Club - ECPv6.15.18//NONSGML v1.0//EN
CALSCALE:GREGORIAN
METHOD:PUBLISH
X-WR-CALNAME:Los Angeles Rod &amp; Reel Club
X-ORIGINAL-URL:https://larrc.org
X-WR-CALDESC:Events for Los Angeles Rod &amp; Reel Club
REFRESH-INTERVAL;VALUE=DURATION:PT1H
X-Robots-Tag:noindex
X-PUBLISHED-TTL:PT1H
BEGIN:VTIMEZONE
TZID:America/Los_Angeles
BEGIN:DAYLIGHT
TZOFFSETFROM:-0800
TZOFFSETTO:-0700
TZNAME:PDT
DTSTART:20220313T100000
END:DAYLIGHT
BEGIN:STANDARD
TZOFFSETFROM:-0700
TZOFFSETTO:-0800
TZNAME:PST
DTSTART:20221106T090000
END:STANDARD
BEGIN:DAYLIGHT
TZOFFSETFROM:-0800
TZOFFSETTO:-0700
TZNAME:PDT
DTSTART:20230312T100000
END:DAYLIGHT
BEGIN:STANDARD
TZOFFSETFROM:-0700
TZOFFSETTO:-0800
TZNAME:PST
DTSTART:20231105T090000
END:STANDARD
BEGIN:DAYLIGHT
TZOFFSETFROM:-0800
TZOFFSETTO:-0700
TZNAME:PDT
DTSTART:20240310T100000
END:DAYLIGHT
BEGIN:STANDARD
TZOFFSETFROM:-0700
TZOFFSETTO:-0800
TZNAME:PST
DTSTART:20241103T090000
END:STANDARD
BEGIN:DAYLIGHT
TZOFFSETFROM:-0800
TZOFFSETTO:-0700
TZNAME:PDT
DTSTART:20250309T100000
END:DAYLIGHT
BEGIN:STANDARD
TZOFFSETFROM:-0700
TZOFFSETTO:-0800
TZNAME:PST
DTSTART:20251102T090000
END:STANDARD
END:VTIMEZONE
BEGIN:VEVENT
DTSTART;TZID=America/Los_Angeles:20240708T080000
DTEND;TZID=America/Los_Angeles:20240708T170000
DTSTAMP:20260422T164104
CREATED:20240101T231933Z
LAST-MODIFIED:20240101T231933Z
UID:3359-1720425600-1720458000@larrc.org
SUMMARY:Earl Warren Memorial Kids Trip - July
DESCRIPTION:Earl Warren Memorial Kids Trip \nContact John Goss\, jgbigkahuna@sbcglobal.net
URL:https://larrc.org/event/earl-warren-memorial-kids-trip-july/
LOCATION:Uknown Location\, CA\, United States
CATEGORIES:Special Event
END:VEVENT
BEGIN:VEVENT
DTSTART;TZID=America/Los_Angeles:20240624T180000
DTEND;TZID=America/Los_Angeles:20240624T210000
DTSTAMP:20260422T164104
CREATED:20240101T000345Z
LAST-MODIFIED:20240101T000345Z
UID:3355-1719252000-1719262800@larrc.org
SUMMARY:Dinner Meeting - June
DESCRIPTION:Dinner Meeting at Lulu’s Restaurant\, Van Nuys
URL:https://larrc.org/event/dinner-meeting-june/
LOCATION:Lulu’s Restaurant & Sports Bar\, 16900 Roscoe Blvd.\, Van Nuys\, CA\, 91406\, United States
CATEGORIES:Meetings
END:VEVENT
BEGIN:VEVENT
DTSTART;TZID=America/Los_Angeles:20240617T180000
DTEND;TZID=America/Los_Angeles:20240617T210000
DTSTAMP:20260422T164104
CREATED:20231231T235746Z
LAST-MODIFIED:20231231T235830Z
UID:3353-1718647200-1718658000@larrc.org
SUMMARY:Board of Directors Meeting - June
DESCRIPTION:Board of Directors Meeting via Zoom
URL:https://larrc.org/event/board-of-directors-meeting-june/
LOCATION:Zoom
CATEGORIES:Meetings
END:VEVENT
BEGIN:VEVENT
DTSTART;TZID=America/Los_Angeles:20240520T180000
DTEND;TZID=America/Los_Angeles:20240520T210000
DTSTAMP:20260422T164104
CREATED:20231231T235558Z
LAST-MODIFIED:20231231T235558Z
UID:3351-1716228000-1716238800@larrc.org
SUMMARY:Dinner Meeting - May
DESCRIPTION:Dinner Meeting at Lulu’s Restaurant\, Van Nuys
URL:https://larrc.org/event/dinner-meeting-may/
LOCATION:Lulu’s Restaurant & Sports Bar\, 16900 Roscoe Blvd.\, Van Nuys\, CA\, 91406\, United States
CATEGORIES:Meetings
END:VEVENT
BEGIN:VEVENT
DTSTART;TZID=America/Los_Angeles:20240513T180000
DTEND;TZID=America/Los_Angeles:20240513T210000
DTSTAMP:20260422T164104
CREATED:20231231T235444Z
LAST-MODIFIED:20231231T235444Z
UID:3349-1715623200-1715634000@larrc.org
SUMMARY:Board of Directors Meeting - May
DESCRIPTION:Board of Directors Meeting via Zoom
URL:https://larrc.org/event/board-of-directors-meeting-may/
LOCATION:Zoom
CATEGORIES:Meetings
END:VEVENT
BEGIN:VEVENT
DTSTART;TZID=America/Los_Angeles:20240426T180000
DTEND;TZID=America/Los_Angeles:20240426T210000
DTSTAMP:20260422T164104
CREATED:20231231T235341Z
LAST-MODIFIED:20240101T000112Z
UID:3347-1714154400-1714165200@larrc.org
SUMMARY:Dinner Meeting - April
DESCRIPTION:Dinner Meeting at Lulu’s Restaurant\, Van Nuys
URL:https://larrc.org/event/dinner-meeting-apr/
LOCATION:Lulu’s Restaurant & Sports Bar\, 16900 Roscoe Blvd.\, Van Nuys\, CA\, 91406\, United States
CATEGORIES:Meetings
END:VEVENT
BEGIN:VEVENT
DTSTART;TZID=America/Los_Angeles:20240422T180000
DTEND;TZID=America/Los_Angeles:20240422T210000
DTSTAMP:20260422T164104
CREATED:20231231T235240Z
LAST-MODIFIED:20231231T235240Z
UID:3345-1713808800-1713819600@larrc.org
SUMMARY:Board of Directors Meeting - April
DESCRIPTION:Board of Directors Meeting via Zoom
URL:https://larrc.org/event/board-of-directors-meeting-april/
LOCATION:Zoom
CATEGORIES:Meetings
END:VEVENT
BEGIN:VEVENT
DTSTART;TZID=America/Los_Angeles:20240405T080000
DTEND;TZID=America/Los_Angeles:20240405T170000
DTSTAMP:20260422T164104
CREATED:20231231T234346Z
LAST-MODIFIED:20231231T235121Z
UID:3342-1712304000-1712336400@larrc.org
SUMMARY:Lou Berke Special Needs Trout / Catfish Derby - April
DESCRIPTION:Lou Berke Special Needs Trout / Catfish Derby \nContact Steve Simon\, bigfish1944@yahoo.com
URL:https://larrc.org/event/lou-berke-special-needs-trout-catfish-derby-apr/
LOCATION:Uknown Location\, CA\, United States
CATEGORIES:Special Event
ORGANIZER;CN="Steve Simon":MAILTO:bigfish1944@yahoo.com
END:VEVENT
BEGIN:VEVENT
DTSTART;TZID=America/Los_Angeles:20240325T180000
DTEND;TZID=America/Los_Angeles:20240325T210000
DTSTAMP:20260422T164104
CREATED:20231231T224153Z
LAST-MODIFIED:20231231T224153Z
UID:3340-1711389600-1711400400@larrc.org
SUMMARY:Dinner Meeting - March
DESCRIPTION:Dinner Meeting at Lulu’s Restaurant\, Van Nuys
URL:https://larrc.org/event/dinner-meeting-march/
LOCATION:Lulu’s Restaurant & Sports Bar\, 16900 Roscoe Blvd.\, Van Nuys\, CA\, 91406\, United States
CATEGORIES:Meetings
END:VEVENT
BEGIN:VEVENT
DTSTART;TZID=America/Los_Angeles:20240318T180000
DTEND;TZID=America/Los_Angeles:20240318T210000
DTSTAMP:20260422T164104
CREATED:20231231T184027Z
LAST-MODIFIED:20231231T235957Z
UID:3338-1710784800-1710795600@larrc.org
SUMMARY:Board of Directors Meeting - March
DESCRIPTION:Board of Directors Meeting via Zoom
URL:https://larrc.org/event/board-of-directors-meeting-mar/
LOCATION:Zoom
CATEGORIES:Meetings
END:VEVENT
BEGIN:VEVENT
DTSTART;TZID=America/Los_Angeles:20240225T100000
DTEND;TZID=America/Los_Angeles:20240225T130000
DTSTAMP:20260422T164104
CREATED:20231231T223744Z
LAST-MODIFIED:20231231T223909Z
UID:3336-1708855200-1708866000@larrc.org
SUMMARY:Annual Banquet - 2024
DESCRIPTION:
URL:https://larrc.org/event/banquet-feb-2024/
LOCATION:Lulu’s Restaurant & Sports Bar\, 16900 Roscoe Blvd.\, Van Nuys\, CA\, 91406\, United States
CATEGORIES:Meetings
ATTACH;FMTTYPE=image/png:https://larrc.org/wp-content/uploads/2020/01/iconfinder_14_1751365.png
END:VEVENT
BEGIN:VEVENT
DTSTART;TZID=America/Los_Angeles:20240219T180000
DTEND;TZID=America/Los_Angeles:20240219T210000
DTSTAMP:20260422T164104
CREATED:20231231T212439Z
LAST-MODIFIED:20231231T212439Z
UID:3334-1708365600-1708376400@larrc.org
SUMMARY:Board of Directors Meeting - Feb
DESCRIPTION:Board of Directors Meeting via Zoom
URL:https://larrc.org/event/board-of-directors-meeting-feb/
LOCATION:Zoom
CATEGORIES:Meetings
END:VEVENT
BEGIN:VEVENT
DTSTART;TZID=America/Los_Angeles:20231218T180000
DTEND;TZID=America/Los_Angeles:20231218T210000
DTSTAMP:20260422T164104
CREATED:20230424T061653Z
LAST-MODIFIED:20230424T061750Z
UID:3220-1702922400-1702933200@larrc.org
SUMMARY:Board of Directors Meeting
DESCRIPTION:Board of Directors Meeting via Zoom
URL:https://larrc.org/event/board-of-directors-meeting-10/
LOCATION:Zoom
CATEGORIES:Meetings
END:VEVENT
BEGIN:VEVENT
DTSTART;TZID=America/Los_Angeles:20231127T180000
DTEND;TZID=America/Los_Angeles:20231127T210000
DTSTAMP:20260422T164104
CREATED:20230424T061554Z
LAST-MODIFIED:20230424T061554Z
UID:3218-1701108000-1701118800@larrc.org
SUMMARY:Dinner Meeting
DESCRIPTION:Dinner Meeting at Lulu’s Restaurant\, Van Nuys
URL:https://larrc.org/event/dinner-meeting-25/
LOCATION:Lulu’s Restaurant & Sports Bar\, 16900 Roscoe Blvd.\, Van Nuys\, CA\, 91406\, United States
CATEGORIES:Meetings
END:VEVENT
BEGIN:VEVENT
DTSTART;TZID=America/Los_Angeles:20231120T180000
DTEND;TZID=America/Los_Angeles:20231120T210000
DTSTAMP:20260422T164104
CREATED:20230424T061435Z
LAST-MODIFIED:20230424T061435Z
UID:3216-1700503200-1700514000@larrc.org
SUMMARY:Board of Directors Meeting
DESCRIPTION:Board of Directors Meeting via Zoom
URL:https://larrc.org/event/board-of-directors-meeting-9/
LOCATION:Zoom
CATEGORIES:Meetings
END:VEVENT
BEGIN:VEVENT
DTSTART;TZID=America/Los_Angeles:20231030T180000
DTEND;TZID=America/Los_Angeles:20231030T210000
DTSTAMP:20260422T164104
CREATED:20230424T061218Z
LAST-MODIFIED:20230424T061258Z
UID:3214-1698688800-1698699600@larrc.org
SUMMARY:Dinner Meeting
DESCRIPTION:Dinner Meeting at Lulu’s Restaurant\, Van Nuys
URL:https://larrc.org/event/dinner-meeting-24/
LOCATION:Lulu’s Restaurant & Sports Bar\, 16900 Roscoe Blvd.\, Van Nuys\, CA\, 91406\, United States
CATEGORIES:Meetings
END:VEVENT
BEGIN:VEVENT
DTSTART;TZID=America/Los_Angeles:20231023T080000
DTEND;TZID=America/Los_Angeles:20231023T170000
DTSTAMP:20260422T164104
CREATED:20230424T061037Z
LAST-MODIFIED:20230424T061110Z
UID:3212-1698048000-1698080400@larrc.org
SUMMARY:Board of Directors Meeting
DESCRIPTION:Board of Directors Meeting via Zoom
URL:https://larrc.org/event/board-of-directors-meeting-8/
LOCATION:Zoom
CATEGORIES:Meetings
END:VEVENT
BEGIN:VEVENT
DTSTART;TZID=America/Los_Angeles:20230918T180000
DTEND;TZID=America/Los_Angeles:20230918T210000
DTSTAMP:20260422T164104
CREATED:20230424T060910Z
LAST-MODIFIED:20230424T060910Z
UID:3210-1695060000-1695070800@larrc.org
SUMMARY:Dinner Meeting
DESCRIPTION:Dinner Meeting at Lulu’s Restaurant\, Van Nuys
URL:https://larrc.org/event/dinner-meeting-23/
LOCATION:Lulu’s Restaurant & Sports Bar\, 16900 Roscoe Blvd.\, Van Nuys\, CA\, 91406\, United States
CATEGORIES:Meetings
END:VEVENT
BEGIN:VEVENT
DTSTART;TZID=America/Los_Angeles:20230911T180000
DTEND;TZID=America/Los_Angeles:20230911T210000
DTSTAMP:20260422T164104
CREATED:20230424T060749Z
LAST-MODIFIED:20230424T060749Z
UID:3208-1694455200-1694466000@larrc.org
SUMMARY:Board of Directors Meeting
DESCRIPTION:Board of Directors Meeting via Zoom
URL:https://larrc.org/event/board-of-directors-meeting-7/
LOCATION:Zoom
CATEGORIES:Meetings
END:VEVENT
BEGIN:VEVENT
DTSTART;TZID=America/Los_Angeles:20230828T180000
DTEND;TZID=America/Los_Angeles:20230828T210000
DTSTAMP:20260422T164104
CREATED:20230424T060535Z
LAST-MODIFIED:20230424T060625Z
UID:3206-1693245600-1693256400@larrc.org
SUMMARY:Dinner Meeting
DESCRIPTION:Dinner Meeting at Lulu’s Restaurant\, Van Nuys
URL:https://larrc.org/event/dinner-meeting-22/
LOCATION:Lulu’s Restaurant & Sports Bar\, 16900 Roscoe Blvd.\, Van Nuys\, CA\, 91406\, United States
CATEGORIES:Meetings
END:VEVENT
BEGIN:VEVENT
DTSTART;TZID=America/Los_Angeles:20230821T180000
DTEND;TZID=America/Los_Angeles:20230821T210000
DTSTAMP:20260422T164104
CREATED:20230424T054710Z
LAST-MODIFIED:20230424T054730Z
UID:3204-1692640800-1692651600@larrc.org
SUMMARY:Board of Directors
DESCRIPTION:Board of Directors Meeting via Zoom
URL:https://larrc.org/event/board-of-directors-2/
LOCATION:Zoom
CATEGORIES:Meetings
END:VEVENT
BEGIN:VEVENT
DTSTART;TZID=America/Los_Angeles:20230808T080000
DTEND;TZID=America/Los_Angeles:20230810T170000
DTSTAMP:20260422T164104
CREATED:20230424T063137Z
LAST-MODIFIED:20230424T063137Z
UID:3232-1691481600-1691686800@larrc.org
SUMMARY:Navegante 1.5 Day Club Charter
DESCRIPTION:Navegante 1.5 Day Club Charter \nContact Dustin House\, cph_bass@yahoo.com
URL:https://larrc.org/event/navegante-1-5-day-club-charter/
LOCATION:Uknown Location\, CA\, United States
CATEGORIES:Special Event
END:VEVENT
BEGIN:VEVENT
DTSTART;TZID=America/Los_Angeles:20230807T080000
DTEND;TZID=America/Los_Angeles:20230807T170000
DTSTAMP:20260422T164104
CREATED:20230424T063005Z
LAST-MODIFIED:20230424T063005Z
UID:3230-1691395200-1691427600@larrc.org
SUMMARY:Marine Mentors
DESCRIPTION:Marine Mentors \nContact Joel Steinman\, jsteinman@socal.rr.com
URL:https://larrc.org/event/marine-mentors/
LOCATION:Uknown Location\, CA\, United States
CATEGORIES:Special Event
END:VEVENT
BEGIN:VEVENT
DTSTART;TZID=America/Los_Angeles:20230731T180000
DTEND;TZID=America/Los_Angeles:20230731T210000
DTSTAMP:20260422T164104
CREATED:20230424T054604Z
LAST-MODIFIED:20230424T054604Z
UID:3202-1690826400-1690837200@larrc.org
SUMMARY:Dinner Meeting
DESCRIPTION:Dinner Meeting at Lulu’s Restaurant\, Van Nuys
URL:https://larrc.org/event/dinner-meeting-21/
LOCATION:Lulu’s Restaurant & Sports Bar\, 16900 Roscoe Blvd.\, Van Nuys\, CA\, 91406\, United States
CATEGORIES:Meetings
END:VEVENT
BEGIN:VEVENT
DTSTART;TZID=America/Los_Angeles:20230724T180000
DTEND;TZID=America/Los_Angeles:20230724T210000
DTSTAMP:20260422T164104
CREATED:20230424T054312Z
LAST-MODIFIED:20230424T054405Z
UID:3200-1690221600-1690232400@larrc.org
SUMMARY:Board of Directors
DESCRIPTION:Board of Directors meeting via Zoom
URL:https://larrc.org/event/board-of-directors/
LOCATION:Zoom
CATEGORIES:Meetings
END:VEVENT
BEGIN:VEVENT
DTSTART;TZID=America/Los_Angeles:20230710T080000
DTEND;TZID=America/Los_Angeles:20230710T170000
DTSTAMP:20260422T164104
CREATED:20230424T062844Z
LAST-MODIFIED:20230424T062844Z
UID:3228-1688976000-1689008400@larrc.org
SUMMARY:Earl Warren Memorial Kids Trip
DESCRIPTION:Earl Warren Memorial Kids Trip \nContact John Goss\, jgbigkahuna@sbcglobal.net
URL:https://larrc.org/event/earl-warren-memorial-kids-trip/
LOCATION:Uknown Location\, CA\, United States
CATEGORIES:Special Event
END:VEVENT
BEGIN:VEVENT
DTSTART;TZID=America/Los_Angeles:20230626T180000
DTEND;TZID=America/Los_Angeles:20230626T210000
DTSTAMP:20260422T164104
CREATED:20230424T054044Z
LAST-MODIFIED:20230424T054125Z
UID:3198-1687802400-1687813200@larrc.org
SUMMARY:Dinner Meeting
DESCRIPTION:Dinner Meeting at Lulu’s Restaurant\, Van Nuys
URL:https://larrc.org/event/dinner-meeting-20/
LOCATION:Lulu’s Restaurant & Sports Bar\, 16900 Roscoe Blvd.\, Van Nuys\, CA\, 91406\, United States
CATEGORIES:Meetings
END:VEVENT
BEGIN:VEVENT
DTSTART;TZID=America/Los_Angeles:20230619T180000
DTEND;TZID=America/Los_Angeles:20230619T210000
DTSTAMP:20260422T164104
CREATED:20230424T053900Z
LAST-MODIFIED:20230424T053930Z
UID:3196-1687197600-1687208400@larrc.org
SUMMARY:Board of Directors Meeting
DESCRIPTION:Board of Directors Meeting via Zoom
URL:https://larrc.org/event/board-of-directors-meeting-6/
LOCATION:Zoom
CATEGORIES:Meetings
END:VEVENT
BEGIN:VEVENT
DTSTART;TZID=America/Los_Angeles:20230614T080000
DTEND;TZID=America/Los_Angeles:20230615T170000
DTSTAMP:20260422T164104
CREATED:20230424T062701Z
LAST-MODIFIED:20230424T062701Z
UID:3226-1686729600-1686848400@larrc.org
SUMMARY:King of the Club Charter\, Truline Overnight
DESCRIPTION:King of the Club Charter\, Truline Overnight \nContact Steve Simon\, bigfish1944@yahoo.com
URL:https://larrc.org/event/king-of-the-club-charter-truline-overnight/
LOCATION:Uknown Location\, CA\, United States
CATEGORIES:Special Event
ORGANIZER;CN="Steve Simon":MAILTO:bigfish1944@yahoo.com
END:VEVENT
BEGIN:VEVENT
DTSTART;TZID=America/Los_Angeles:20230611T180000
DTEND;TZID=America/Los_Angeles:20230611T210000
DTSTAMP:20260422T164104
CREATED:20230424T062509Z
LAST-MODIFIED:20230424T062509Z
UID:3224-1686506400-1686517200@larrc.org
SUMMARY:Annual Family Event\, Lake Sherwood
DESCRIPTION:Annual Family Event\, Lake Sherwood \nContact Mike Hartt\, mhartt@att.net
URL:https://larrc.org/event/annual-family-event-lake-sherwood/
LOCATION:Uknown Location\, CA\, United States
CATEGORIES:Special Event
END:VEVENT
END:VCALENDAR