BEGIN:VCALENDAR
VERSION:2.0
PRODID:-//Los Angeles Rod &amp; Reel Club - ECPv6.15.18//NONSGML v1.0//EN
CALSCALE:GREGORIAN
METHOD:PUBLISH
X-ORIGINAL-URL:https://larrc.org
X-WR-CALDESC:Events for Los Angeles Rod &amp; Reel Club
REFRESH-INTERVAL;VALUE=DURATION:PT1H
X-Robots-Tag:noindex
X-PUBLISHED-TTL:PT1H
BEGIN:VTIMEZONE
TZID:America/Los_Angeles
BEGIN:DAYLIGHT
TZOFFSETFROM:-0800
TZOFFSETTO:-0700
TZNAME:PDT
DTSTART:20240310T100000
END:DAYLIGHT
BEGIN:STANDARD
TZOFFSETFROM:-0700
TZOFFSETTO:-0800
TZNAME:PST
DTSTART:20241103T090000
END:STANDARD
BEGIN:DAYLIGHT
TZOFFSETFROM:-0800
TZOFFSETTO:-0700
TZNAME:PDT
DTSTART:20250309T100000
END:DAYLIGHT
BEGIN:STANDARD
TZOFFSETFROM:-0700
TZOFFSETTO:-0800
TZNAME:PST
DTSTART:20251102T090000
END:STANDARD
BEGIN:DAYLIGHT
TZOFFSETFROM:-0800
TZOFFSETTO:-0700
TZNAME:PDT
DTSTART:20260308T100000
END:DAYLIGHT
BEGIN:STANDARD
TZOFFSETFROM:-0700
TZOFFSETTO:-0800
TZNAME:PST
DTSTART:20261101T090000
END:STANDARD
BEGIN:DAYLIGHT
TZOFFSETFROM:-0800
TZOFFSETTO:-0700
TZNAME:PDT
DTSTART:20270314T100000
END:DAYLIGHT
BEGIN:STANDARD
TZOFFSETFROM:-0700
TZOFFSETTO:-0800
TZNAME:PST
DTSTART:20271107T090000
END:STANDARD
END:VTIMEZONE
BEGIN:VEVENT
DTSTART;TZID=America/Los_Angeles:20251020T080000
DTEND;TZID=America/Los_Angeles:20251020T170000
DTSTAMP:20260422T145534
CREATED:20250613T144615Z
LAST-MODIFIED:20250613T145632Z
UID:3587-1760947200-1760979600@larrc.org
SUMMARY:Board Meeting
DESCRIPTION:
URL:https://larrc.org/event/board-meeting-22/
CATEGORIES:Meetings
END:VEVENT
BEGIN:VEVENT
DTSTART;TZID=America/Los_Angeles:20251027T180000
DTEND;TZID=America/Los_Angeles:20251027T210000
DTSTAMP:20260422T145534
CREATED:20250613T144644Z
LAST-MODIFIED:20250613T145631Z
UID:3588-1761588000-1761598800@larrc.org
SUMMARY:Dinner Meeting
DESCRIPTION:Dinner Meeting at Lulu’s Restaurant\, Van Nuys
URL:https://larrc.org/event/dinner-meeting-30/
CATEGORIES:Meetings
END:VEVENT
BEGIN:VEVENT
DTSTART;TZID=America/Los_Angeles:20251028T180000
DTEND;TZID=America/Los_Angeles:20251028T210000
DTSTAMP:20260422T145534
CREATED:20250613T144707Z
LAST-MODIFIED:20250613T145726Z
UID:3589-1761674400-1761685200@larrc.org
SUMMARY:Navegante Charter
DESCRIPTION:
URL:https://larrc.org/event/navegante-charter/
CATEGORIES:Charter
END:VEVENT
BEGIN:VEVENT
DTSTART;TZID=America/Los_Angeles:20251113T080000
DTEND;TZID=America/Los_Angeles:20251113T170000
DTSTAMP:20260422T145534
CREATED:20250613T144735Z
LAST-MODIFIED:20250613T145712Z
UID:3590-1763020800-1763053200@larrc.org
SUMMARY:Veterans' Trip
DESCRIPTION:
URL:https://larrc.org/event/veterans-trip-5/
CATEGORIES:Fishing Trip
END:VEVENT
BEGIN:VEVENT
DTSTART;TZID=America/Los_Angeles:20251117T080000
DTEND;TZID=America/Los_Angeles:20251117T170000
DTSTAMP:20260422T145534
CREATED:20250613T144749Z
LAST-MODIFIED:20250613T145631Z
UID:3591-1763366400-1763398800@larrc.org
SUMMARY:Board Meeting
DESCRIPTION:
URL:https://larrc.org/event/board-meeting-23/
CATEGORIES:Meetings
END:VEVENT
BEGIN:VEVENT
DTSTART;TZID=America/Los_Angeles:20251124T180000
DTEND;TZID=America/Los_Angeles:20251124T210000
DTSTAMP:20260422T145534
CREATED:20250613T144803Z
LAST-MODIFIED:20250613T145631Z
UID:3592-1764007200-1764018000@larrc.org
SUMMARY:Dinner Meeting
DESCRIPTION:Dinner Meeting at Lulu’s Restaurant\, Van Nuys
URL:https://larrc.org/event/dinner-meeting-31/
CATEGORIES:Meetings
END:VEVENT
BEGIN:VEVENT
DTSTART;TZID=America/Los_Angeles:20251222T080000
DTEND;TZID=America/Los_Angeles:20251222T170000
DTSTAMP:20260422T145534
CREATED:20250613T144819Z
LAST-MODIFIED:20250613T145631Z
UID:3593-1766390400-1766422800@larrc.org
SUMMARY:Board Meeting
DESCRIPTION:
URL:https://larrc.org/event/board-meeting-24/
CATEGORIES:Meetings
END:VEVENT
BEGIN:VEVENT
DTSTART;TZID=America/Los_Angeles:20260119T080000
DTEND;TZID=America/Los_Angeles:20260119T170000
DTSTAMP:20260422T145534
CREATED:20250613T144838Z
LAST-MODIFIED:20250613T145631Z
UID:3594-1768809600-1768842000@larrc.org
SUMMARY:Board Meeting
DESCRIPTION:
URL:https://larrc.org/event/board-meeting-25/
CATEGORIES:Meetings
END:VEVENT
BEGIN:VEVENT
DTSTART;TZID=America/Los_Angeles:20260126T080000
DTEND;TZID=America/Los_Angeles:20260126T170000
DTSTAMP:20260422T145534
CREATED:20250613T144853Z
LAST-MODIFIED:20260107T094005Z
UID:3595-1769414400-1769446800@larrc.org
SUMMARY:Dinner Meeting
DESCRIPTION:Dinner Meeting at Lulu’s Restaurant\, Van Nuys
URL:https://larrc.org/event/dinner-meeting-32/
CATEGORIES:Meetings
END:VEVENT
BEGIN:VEVENT
DTSTART;TZID=America/Los_Angeles:20260215T080000
DTEND;TZID=America/Los_Angeles:20260215T170000
DTSTAMP:20260422T145534
CREATED:20250613T144923Z
LAST-MODIFIED:20250613T145601Z
UID:3597-1771142400-1771174800@larrc.org
SUMMARY:Annual Banquet
DESCRIPTION:
URL:https://larrc.org/event/annual-banquet/
CATEGORIES:Special Event
END:VEVENT
BEGIN:VEVENT
DTSTART;TZID=America/Los_Angeles:20260216T080000
DTEND;TZID=America/Los_Angeles:20260216T170000
DTSTAMP:20260422T145534
CREATED:20260106T124104Z
LAST-MODIFIED:20260106T124104Z
UID:3693-1771228800-1771261200@larrc.org
SUMMARY:Board Meeting
DESCRIPTION:
URL:https://larrc.org/event/board-meeting-28/
CATEGORIES:Meetings
END:VEVENT
BEGIN:VEVENT
DTSTART;TZID=America/Los_Angeles:20260323T080000
DTEND;TZID=America/Los_Angeles:20260323T170000
DTSTAMP:20260422T145534
CREATED:20260106T124116Z
LAST-MODIFIED:20260106T124116Z
UID:3694-1774252800-1774285200@larrc.org
SUMMARY:Board Meeting
DESCRIPTION:
URL:https://larrc.org/event/board-meeting-29/
CATEGORIES:Meetings
END:VEVENT
BEGIN:VEVENT
DTSTART;TZID=America/Los_Angeles:20260330T180000
DTEND;TZID=America/Los_Angeles:20260330T210000
DTSTAMP:20260422T145534
CREATED:20260106T124750Z
LAST-MODIFIED:20260106T124750Z
UID:3716-1774893600-1774904400@larrc.org
SUMMARY:Dinner Meeting
DESCRIPTION:Dinner Meetings at LuLu’s 6:00 Pm Cocktail Hour\, 7:00 PM Dinner Meeting
URL:https://larrc.org/event/dinner-meeting-33/
CATEGORIES:Meetings
END:VEVENT
BEGIN:VEVENT
DTSTART;TZID=America/Los_Angeles:20260420T080000
DTEND;TZID=America/Los_Angeles:20260420T170000
DTSTAMP:20260422T145534
CREATED:20260106T124127Z
LAST-MODIFIED:20260106T124127Z
UID:3695-1776672000-1776704400@larrc.org
SUMMARY:Board Meeting
DESCRIPTION:
URL:https://larrc.org/event/board-meeting-30/
CATEGORIES:Meetings
END:VEVENT
BEGIN:VEVENT
DTSTART;TZID=America/Los_Angeles:20260427T180000
DTEND;TZID=America/Los_Angeles:20260427T210000
DTSTAMP:20260422T145534
CREATED:20260106T124758Z
LAST-MODIFIED:20260106T124758Z
UID:3717-1777312800-1777323600@larrc.org
SUMMARY:Dinner Meeting
DESCRIPTION:Dinner Meetings at LuLu’s 6:00 Pm Cocktail Hour\, 7:00 PM Dinner Meeting
URL:https://larrc.org/event/dinner-meeting-34/
CATEGORIES:Meetings
END:VEVENT
BEGIN:VEVENT
DTSTART;TZID=America/Los_Angeles:20260511T080000
DTEND;TZID=America/Los_Angeles:20260511T170000
DTSTAMP:20260422T145534
CREATED:20260106T124138Z
LAST-MODIFIED:20260106T124138Z
UID:3696-1778486400-1778518800@larrc.org
SUMMARY:Board Meeting
DESCRIPTION:
URL:https://larrc.org/event/board-meeting-31/
CATEGORIES:Meetings
END:VEVENT
BEGIN:VEVENT
DTSTART;TZID=America/Los_Angeles:20260518T180000
DTEND;TZID=America/Los_Angeles:20260518T210000
DTSTAMP:20260422T145534
CREATED:20260106T124806Z
LAST-MODIFIED:20260106T124806Z
UID:3718-1779127200-1779138000@larrc.org
SUMMARY:Dinner Meeting
DESCRIPTION:Dinner Meetings at LuLu’s 6:00 Pm Cocktail Hour\, 7:00 PM Dinner Meeting
URL:https://larrc.org/event/dinner-meeting-35/
CATEGORIES:Meetings
END:VEVENT
BEGIN:VEVENT
DTSTART;TZID=America/Los_Angeles:20260622T080000
DTEND;TZID=America/Los_Angeles:20260622T170000
DTSTAMP:20260422T145534
CREATED:20260106T124148Z
LAST-MODIFIED:20260106T124148Z
UID:3697-1782115200-1782147600@larrc.org
SUMMARY:Board Meeting
DESCRIPTION:
URL:https://larrc.org/event/board-meeting-32/
CATEGORIES:Meetings
END:VEVENT
BEGIN:VEVENT
DTSTART;TZID=America/Los_Angeles:20260629T180000
DTEND;TZID=America/Los_Angeles:20260629T210000
DTSTAMP:20260422T145534
CREATED:20260106T124815Z
LAST-MODIFIED:20260106T124815Z
UID:3719-1782756000-1782766800@larrc.org
SUMMARY:Dinner Meeting
DESCRIPTION:Dinner Meetings at LuLu’s 6:00 Pm Cocktail Hour\, 7:00 PM Dinner Meeting
URL:https://larrc.org/event/dinner-meeting-36/
CATEGORIES:Meetings
END:VEVENT
BEGIN:VEVENT
DTSTART;TZID=America/Los_Angeles:20260720T080000
DTEND;TZID=America/Los_Angeles:20260720T170000
DTSTAMP:20260422T145534
CREATED:20260106T124202Z
LAST-MODIFIED:20260106T124202Z
UID:3698-1784534400-1784566800@larrc.org
SUMMARY:Board Meeting
DESCRIPTION:
URL:https://larrc.org/event/board-meeting-33/
CATEGORIES:Meetings
END:VEVENT
BEGIN:VEVENT
DTSTART;TZID=America/Los_Angeles:20260727T180000
DTEND;TZID=America/Los_Angeles:20260727T210000
DTSTAMP:20260422T145534
CREATED:20260106T124824Z
LAST-MODIFIED:20260106T124824Z
UID:3720-1785175200-1785186000@larrc.org
SUMMARY:Dinner Meeting
DESCRIPTION:Dinner Meetings at LuLu’s 6:00 Pm Cocktail Hour\, 7:00 PM Dinner Meeting
URL:https://larrc.org/event/dinner-meeting-37/
CATEGORIES:Meetings
END:VEVENT
BEGIN:VEVENT
DTSTART;TZID=America/Los_Angeles:20260824T080000
DTEND;TZID=America/Los_Angeles:20260824T170000
DTSTAMP:20260422T145534
CREATED:20260106T124214Z
LAST-MODIFIED:20260106T124214Z
UID:3699-1787558400-1787590800@larrc.org
SUMMARY:Board Meeting
DESCRIPTION:
URL:https://larrc.org/event/board-meeting-34/
CATEGORIES:Meetings
END:VEVENT
BEGIN:VEVENT
DTSTART;TZID=America/Los_Angeles:20260831T180000
DTEND;TZID=America/Los_Angeles:20260831T210000
DTSTAMP:20260422T145534
CREATED:20260106T124835Z
LAST-MODIFIED:20260106T124835Z
UID:3721-1788199200-1788210000@larrc.org
SUMMARY:Dinner Meeting
DESCRIPTION:Dinner Meetings at LuLu’s 6:00 Pm Cocktail Hour\, 7:00 PM Dinner Meeting
URL:https://larrc.org/event/dinner-meeting-38/
CATEGORIES:Meetings
END:VEVENT
BEGIN:VEVENT
DTSTART;TZID=America/Los_Angeles:20260921T080000
DTEND;TZID=America/Los_Angeles:20260921T170000
DTSTAMP:20260422T145534
CREATED:20260106T124227Z
LAST-MODIFIED:20260106T124227Z
UID:3700-1789977600-1790010000@larrc.org
SUMMARY:Board Meeting
DESCRIPTION:
URL:https://larrc.org/event/board-meeting-35/
CATEGORIES:Meetings
END:VEVENT
BEGIN:VEVENT
DTSTART;TZID=America/Los_Angeles:20260928T180000
DTEND;TZID=America/Los_Angeles:20260928T210000
DTSTAMP:20260422T145534
CREATED:20260106T124846Z
LAST-MODIFIED:20260106T124846Z
UID:3722-1790618400-1790629200@larrc.org
SUMMARY:Dinner Meeting
DESCRIPTION:Dinner Meetings at LuLu’s 6:00 Pm Cocktail Hour\, 7:00 PM Dinner Meeting
URL:https://larrc.org/event/dinner-meeting-39/
CATEGORIES:Meetings
END:VEVENT
BEGIN:VEVENT
DTSTART;TZID=America/Los_Angeles:20261019T080000
DTEND;TZID=America/Los_Angeles:20261019T170000
DTSTAMP:20260422T145534
CREATED:20260106T124242Z
LAST-MODIFIED:20260106T124242Z
UID:3701-1792396800-1792429200@larrc.org
SUMMARY:Board Meeting
DESCRIPTION:
URL:https://larrc.org/event/board-meeting-36/
CATEGORIES:Meetings
END:VEVENT
BEGIN:VEVENT
DTSTART;TZID=America/Los_Angeles:20261026T180000
DTEND;TZID=America/Los_Angeles:20261026T210000
DTSTAMP:20260422T145534
CREATED:20260106T124858Z
LAST-MODIFIED:20260106T124858Z
UID:3723-1793037600-1793048400@larrc.org
SUMMARY:Dinner Meeting
DESCRIPTION:Dinner Meetings at LuLu’s 6:00 Pm Cocktail Hour\, 7:00 PM Dinner Meeting
URL:https://larrc.org/event/dinner-meeting-40/
CATEGORIES:Meetings
END:VEVENT
BEGIN:VEVENT
DTSTART;TZID=America/Los_Angeles:20261123T080000
DTEND;TZID=America/Los_Angeles:20261123T170000
DTSTAMP:20260422T145534
CREATED:20260106T124254Z
LAST-MODIFIED:20260106T124254Z
UID:3702-1795420800-1795453200@larrc.org
SUMMARY:Board Meeting
DESCRIPTION:
URL:https://larrc.org/event/board-meeting-37/
CATEGORIES:Meetings
END:VEVENT
BEGIN:VEVENT
DTSTART;TZID=America/Los_Angeles:20261130T180000
DTEND;TZID=America/Los_Angeles:20261130T210000
DTSTAMP:20260422T145534
CREATED:20260106T124908Z
LAST-MODIFIED:20260106T124908Z
UID:3724-1796061600-1796072400@larrc.org
SUMMARY:Dinner Meeting
DESCRIPTION:Dinner Meetings at LuLu’s 6:00 Pm Cocktail Hour\, 7:00 PM Dinner Meeting
URL:https://larrc.org/event/dinner-meeting-41/
CATEGORIES:Meetings
END:VEVENT
BEGIN:VEVENT
DTSTART;TZID=America/Los_Angeles:20261221T080000
DTEND;TZID=America/Los_Angeles:20261221T170000
DTSTAMP:20260422T145534
CREATED:20260106T124320Z
LAST-MODIFIED:20260106T124320Z
UID:3703-1797840000-1797872400@larrc.org
SUMMARY:Board Meeting
DESCRIPTION:(in person\, place TBD)
URL:https://larrc.org/event/board-meeting-38/
CATEGORIES:Meetings
END:VEVENT
END:VCALENDAR