BEGIN:VCALENDAR
VERSION:2.0
PRODID:-//Los Angeles Rod &amp; Reel Club - ECPv6.15.18//NONSGML v1.0//EN
CALSCALE:GREGORIAN
METHOD:PUBLISH
X-WR-CALNAME:Los Angeles Rod &amp; Reel Club
X-ORIGINAL-URL:https://larrc.org
X-WR-CALDESC:Events for Los Angeles Rod &amp; Reel Club
REFRESH-INTERVAL;VALUE=DURATION:PT1H
X-Robots-Tag:noindex
X-PUBLISHED-TTL:PT1H
BEGIN:VTIMEZONE
TZID:America/Los_Angeles
BEGIN:DAYLIGHT
TZOFFSETFROM:-0800
TZOFFSETTO:-0700
TZNAME:PDT
DTSTART:20190310T100000
END:DAYLIGHT
BEGIN:STANDARD
TZOFFSETFROM:-0700
TZOFFSETTO:-0800
TZNAME:PST
DTSTART:20191103T090000
END:STANDARD
BEGIN:DAYLIGHT
TZOFFSETFROM:-0800
TZOFFSETTO:-0700
TZNAME:PDT
DTSTART:20200308T100000
END:DAYLIGHT
BEGIN:STANDARD
TZOFFSETFROM:-0700
TZOFFSETTO:-0800
TZNAME:PST
DTSTART:20201101T090000
END:STANDARD
BEGIN:DAYLIGHT
TZOFFSETFROM:-0800
TZOFFSETTO:-0700
TZNAME:PDT
DTSTART:20210314T100000
END:DAYLIGHT
BEGIN:STANDARD
TZOFFSETFROM:-0700
TZOFFSETTO:-0800
TZNAME:PST
DTSTART:20211107T090000
END:STANDARD
BEGIN:DAYLIGHT
TZOFFSETFROM:-0800
TZOFFSETTO:-0700
TZNAME:PDT
DTSTART:20220313T100000
END:DAYLIGHT
BEGIN:STANDARD
TZOFFSETFROM:-0700
TZOFFSETTO:-0800
TZNAME:PST
DTSTART:20221106T090000
END:STANDARD
BEGIN:DAYLIGHT
TZOFFSETFROM:-0800
TZOFFSETTO:-0700
TZNAME:PDT
DTSTART:20230312T100000
END:DAYLIGHT
BEGIN:STANDARD
TZOFFSETFROM:-0700
TZOFFSETTO:-0800
TZNAME:PST
DTSTART:20231105T090000
END:STANDARD
BEGIN:DAYLIGHT
TZOFFSETFROM:-0800
TZOFFSETTO:-0700
TZNAME:PDT
DTSTART:20240310T100000
END:DAYLIGHT
BEGIN:STANDARD
TZOFFSETFROM:-0700
TZOFFSETTO:-0800
TZNAME:PST
DTSTART:20241103T090000
END:STANDARD
END:VTIMEZONE
BEGIN:VEVENT
DTSTART;TZID=America/Los_Angeles:20230123T180000
DTEND;TZID=America/Los_Angeles:20230123T210000
DTSTAMP:20260422T170854
CREATED:20230424T044033Z
LAST-MODIFIED:20230424T044839Z
UID:3173-1674496800-1674507600@larrc.org
SUMMARY:Board of Directors Meeting
DESCRIPTION:Board of Directors Meeting via Zoom
URL:https://larrc.org/event/board-of-directors-meeting/
LOCATION:Zoom
CATEGORIES:Meetings
END:VEVENT
BEGIN:VEVENT
DTSTART;TZID=America/Los_Angeles:20210228T100000
DTEND;TZID=America/Los_Angeles:20210228T130000
DTSTAMP:20260422T170854
CREATED:20200119T095830Z
LAST-MODIFIED:20200120T005147Z
UID:2547-1614506400-1614517200@larrc.org
SUMMARY:Banquet
DESCRIPTION:
URL:https://larrc.org/event/banquet-2/
LOCATION:Lulu’s Restaurant & Sports Bar\, 16900 Roscoe Blvd.\, Van Nuys\, CA\, 91406\, United States
CATEGORIES:Meetings
ATTACH;FMTTYPE=image/png:https://larrc.org/wp-content/uploads/2020/01/iconfinder_14_1751365.png
END:VEVENT
BEGIN:VEVENT
DTSTART;TZID=America/Los_Angeles:20210222T180000
DTEND;TZID=America/Los_Angeles:20210222T210000
DTSTAMP:20260422T170854
CREATED:20200120T004631Z
LAST-MODIFIED:20200120T004631Z
UID:2582-1614016800-1614027600@larrc.org
SUMMARY:Board Meeting
DESCRIPTION:
URL:https://larrc.org/event/board-meeting-17/
LOCATION:Lulu’s Restaurant & Sports Bar\, 16900 Roscoe Blvd.\, Van Nuys\, CA\, 91406\, United States
CATEGORIES:Meetings
ATTACH;FMTTYPE=image/png:https://larrc.org/wp-content/uploads/2019/04/icons8-people-80.png
END:VEVENT
BEGIN:VEVENT
DTSTART;TZID=America/Los_Angeles:20210125T100000
DTEND;TZID=America/Los_Angeles:20210125T130000
DTSTAMP:20260422T170854
CREATED:20200119T095646Z
LAST-MODIFIED:20200119T095727Z
UID:2545-1611568800-1611579600@larrc.org
SUMMARY:Dinner Meeting
DESCRIPTION:
URL:https://larrc.org/event/dinner-meeting-15/
LOCATION:Lulu’s Restaurant & Sports Bar\, 16900 Roscoe Blvd.\, Van Nuys\, CA\, 91406\, United States
CATEGORIES:Meetings
ATTACH;FMTTYPE=image/png:https://larrc.org/wp-content/uploads/2019/04/icons8-seafood-100.png
END:VEVENT
BEGIN:VEVENT
DTSTART;TZID=America/Los_Angeles:20210118T180000
DTEND;TZID=America/Los_Angeles:20210118T210000
DTSTAMP:20260422T170854
CREATED:20200120T004513Z
LAST-MODIFIED:20200120T004513Z
UID:2580-1610992800-1611003600@larrc.org
SUMMARY:Board Meeting
DESCRIPTION:
URL:https://larrc.org/event/board-meeting-16/
LOCATION:Lulu’s Restaurant & Sports Bar\, 16900 Roscoe Blvd.\, Van Nuys\, CA\, 91406\, United States
CATEGORIES:Meetings
ATTACH;FMTTYPE=image/png:https://larrc.org/wp-content/uploads/2019/04/icons8-people-80.png
END:VEVENT
BEGIN:VEVENT
DTSTART;TZID=America/Los_Angeles:20201214T180000
DTEND;TZID=America/Los_Angeles:20201214T210000
DTSTAMP:20260422T170854
CREATED:20200119T094141Z
LAST-MODIFIED:20200119T094141Z
UID:2523-1607968800-1607979600@larrc.org
SUMMARY:Board Meeting
DESCRIPTION:
URL:https://larrc.org/event/board-meeting-15/
LOCATION:Lulu’s Restaurant & Sports Bar\, 16900 Roscoe Blvd.\, Van Nuys\, CA\, 91406\, United States
CATEGORIES:Meetings
ATTACH;FMTTYPE=image/png:https://larrc.org/wp-content/uploads/2019/04/icons8-people-80.png
END:VEVENT
BEGIN:VEVENT
DTSTART;TZID=America/Los_Angeles:20201130T100000
DTEND;TZID=America/Los_Angeles:20201130T130000
DTSTAMP:20260422T170854
CREATED:20200119T095439Z
LAST-MODIFIED:20200119T095439Z
UID:2543-1606730400-1606741200@larrc.org
SUMMARY:Dinner Meeting
DESCRIPTION:
URL:https://larrc.org/event/dinner-meeting-14/
LOCATION:Lulu’s Restaurant & Sports Bar\, 16900 Roscoe Blvd.\, Van Nuys\, CA\, 91406\, United States
CATEGORIES:Meetings
ATTACH;FMTTYPE=image/png:https://larrc.org/wp-content/uploads/2019/04/icons8-seafood-100.png
END:VEVENT
BEGIN:VEVENT
DTSTART;TZID=America/Los_Angeles:20201123T180000
DTEND;TZID=America/Los_Angeles:20201123T210000
DTSTAMP:20260422T170854
CREATED:20200119T094039Z
LAST-MODIFIED:20200119T094039Z
UID:2519-1606154400-1606165200@larrc.org
SUMMARY:Board Meeting
DESCRIPTION:
URL:https://larrc.org/event/board-meeting-14/
LOCATION:Lulu’s Restaurant & Sports Bar\, 16900 Roscoe Blvd.\, Van Nuys\, CA\, 91406\, United States
CATEGORIES:Meetings
ATTACH;FMTTYPE=image/png:https://larrc.org/wp-content/uploads/2019/04/icons8-people-80.png
END:VEVENT
BEGIN:VEVENT
DTSTART;TZID=America/Los_Angeles:20201118T070000
DTEND;TZID=America/Los_Angeles:20201118T210000
DTSTAMP:20260422T170854
CREATED:20200120T003300Z
LAST-MODIFIED:20200309T005034Z
UID:2568-1605682800-1605733200@larrc.org
SUMMARY:Vets Trip November 2020
DESCRIPTION:Betty O\nDock 52. Fuji Way\nMarina del Rey\n7:00 am departure\nContact Steve Simon Bigfish44@yahoo.com 818 469 7651
URL:https://larrc.org/event/vets-trip-tbd-3/
LOCATION:Betty O\, Dock 52. Fuji Way\, Marina del Rey\, CA\, 90292\, United States
CATEGORIES:Fishing Trip,Special Event
ATTACH;FMTTYPE=image/png:https://larrc.org/wp-content/uploads/2020/01/iconfinder_Veterans_Day_4937460.png
END:VEVENT
BEGIN:VEVENT
DTSTART;TZID=America/Los_Angeles:20201026T110000
DTEND;TZID=America/Los_Angeles:20201026T140000
DTSTAMP:20260422T170854
CREATED:20200119T095341Z
LAST-MODIFIED:20200119T095341Z
UID:2541-1603710000-1603720800@larrc.org
SUMMARY:Dinner Meeting
DESCRIPTION:
URL:https://larrc.org/event/dinner-meeting-13/
LOCATION:Lulu’s Restaurant & Sports Bar\, 16900 Roscoe Blvd.\, Van Nuys\, CA\, 91406\, United States
CATEGORIES:Meetings
ATTACH;FMTTYPE=image/png:https://larrc.org/wp-content/uploads/2019/04/icons8-seafood-100.png
END:VEVENT
BEGIN:VEVENT
DTSTART;TZID=America/Los_Angeles:20201019T180000
DTEND;TZID=America/Los_Angeles:20201019T210000
DTSTAMP:20260422T170854
CREATED:20200119T093834Z
LAST-MODIFIED:20200119T094004Z
UID:2518-1603130400-1603141200@larrc.org
SUMMARY:Board Meeting
DESCRIPTION:
URL:https://larrc.org/event/board-meeting-13/
LOCATION:Lulu’s Restaurant & Sports Bar\, 16900 Roscoe Blvd.\, Van Nuys\, CA\, 91406\, United States
CATEGORIES:Meetings
ATTACH;FMTTYPE=image/png:https://larrc.org/wp-content/uploads/2019/04/icons8-people-80.png
END:VEVENT
BEGIN:VEVENT
DTSTART;TZID=America/Los_Angeles:20200921T110000
DTEND;TZID=America/Los_Angeles:20200921T140000
DTSTAMP:20260422T170854
CREATED:20200119T095255Z
LAST-MODIFIED:20200119T095255Z
UID:2539-1600686000-1600696800@larrc.org
SUMMARY:Dinner Meeting
DESCRIPTION:
URL:https://larrc.org/event/dinner-meeting-12/
LOCATION:Lulu’s Restaurant & Sports Bar\, 16900 Roscoe Blvd.\, Van Nuys\, CA\, 91406\, United States
CATEGORIES:Meetings
ATTACH;FMTTYPE=image/png:https://larrc.org/wp-content/uploads/2019/04/icons8-seafood-100.png
END:VEVENT
BEGIN:VEVENT
DTSTART;TZID=America/Los_Angeles:20200916T080000
DTEND;TZID=America/Los_Angeles:20200916T143000
DTSTAMP:20260422T170854
CREATED:20200309T004746Z
LAST-MODIFIED:20200309T014625Z
UID:2626-1600243200-1600266600@larrc.org
SUMMARY:Vets Trip September 2020
DESCRIPTION:Betty O\nDock 52. Fuji Way\nMarina del Rey\n7:00 am departure\nContact Steve Simon Bigfish44@yahoo.com 818 469 7651
URL:https://larrc.org/event/vets-trip-october-2020/
LOCATION:Betty O\, Dock 52. Fuji Way\, Marina del Rey\, CA\, 90292\, United States
CATEGORIES:Fishing Trip,Special Event
ATTACH;FMTTYPE=image/png:https://larrc.org/wp-content/uploads/2020/01/iconfinder_Veterans_Day_4937460.png
END:VEVENT
BEGIN:VEVENT
DTSTART;TZID=America/Los_Angeles:20200914T180000
DTEND;TZID=America/Los_Angeles:20200914T210000
DTSTAMP:20260422T170854
CREATED:20200119T093547Z
LAST-MODIFIED:20200119T093800Z
UID:2517-1600106400-1600117200@larrc.org
SUMMARY:Board Meeting
DESCRIPTION:
URL:https://larrc.org/event/board-meeting-12/
LOCATION:Lulu’s Restaurant & Sports Bar\, 16900 Roscoe Blvd.\, Van Nuys\, CA\, 91406\, United States
CATEGORIES:Meetings
ATTACH;FMTTYPE=image/png:https://larrc.org/wp-content/uploads/2019/04/icons8-people-80.png
END:VEVENT
BEGIN:VEVENT
DTSTART;TZID=America/Los_Angeles:20200901T110000
DTEND;TZID=America/Los_Angeles:20200906T140000
DTSTAMP:20260422T170854
CREATED:20200120T004051Z
LAST-MODIFIED:20200120T004119Z
UID:2578-1598958000-1599400800@larrc.org
SUMMARY:Red Rooster Charter
DESCRIPTION:
URL:https://larrc.org/event/red-rooster-charter/
LOCATION:Uknown Location\, CA\, United States
CATEGORIES:Fishing Trip,Special Event
ATTACH;FMTTYPE=image/png:https://larrc.org/wp-content/uploads/2019/04/icons8-fishing-boat-filled-100.png
END:VEVENT
BEGIN:VEVENT
DTSTART;TZID=America/Los_Angeles:20200831T110000
DTEND;TZID=America/Los_Angeles:20200831T140000
DTSTAMP:20260422T170854
CREATED:20200119T095151Z
LAST-MODIFIED:20200119T095151Z
UID:2537-1598871600-1598882400@larrc.org
SUMMARY:Dinner Meeting
DESCRIPTION:
URL:https://larrc.org/event/dinner-meeting-11/
LOCATION:Lulu’s Restaurant & Sports Bar\, 16900 Roscoe Blvd.\, Van Nuys\, CA\, 91406\, United States
CATEGORIES:Meetings
ATTACH;FMTTYPE=image/png:https://larrc.org/wp-content/uploads/2019/04/icons8-seafood-100.png
END:VEVENT
BEGIN:VEVENT
DTSTART;TZID=America/Los_Angeles:20200824T180000
DTEND;TZID=America/Los_Angeles:20200824T210000
DTSTAMP:20260422T170854
CREATED:20200119T093326Z
LAST-MODIFIED:20200119T093326Z
UID:2515-1598292000-1598302800@larrc.org
SUMMARY:Board Meeting
DESCRIPTION:
URL:https://larrc.org/event/board-meeting-11/
LOCATION:Lulu’s Restaurant & Sports Bar\, 16900 Roscoe Blvd.\, Van Nuys\, CA\, 91406\, United States
CATEGORIES:Meetings
ATTACH;FMTTYPE=image/png:https://larrc.org/wp-content/uploads/2019/04/icons8-people-80.png
END:VEVENT
BEGIN:VEVENT
DTSTART;TZID=America/Los_Angeles:20200803T110000
DTEND;TZID=America/Los_Angeles:20200803T140000
DTSTAMP:20260422T170854
CREATED:20200120T003919Z
LAST-MODIFIED:20200309T013612Z
UID:2576-1596452400-1596463200@larrc.org
SUMMARY:Mentors Trip
DESCRIPTION:Time TBD
URL:https://larrc.org/event/mentors-trip/
LOCATION:Channel Island Sportfishing\, 4151 S. Victoria Ave\, Oxnard\, CA\, 93035\, United States
CATEGORIES:Fishing Trip,Special Event
ATTACH;FMTTYPE=image/png:https://larrc.org/wp-content/uploads/2019/04/icons8-fishing-boat-filled-100.png
END:VEVENT
BEGIN:VEVENT
DTSTART;TZID=America/Los_Angeles:20200727T110000
DTEND;TZID=America/Los_Angeles:20200727T140000
DTSTAMP:20260422T170854
CREATED:20200119T095109Z
LAST-MODIFIED:20200119T095109Z
UID:2535-1595847600-1595858400@larrc.org
SUMMARY:Dinner Meeting
DESCRIPTION:
URL:https://larrc.org/event/dinner-meeting-10/
LOCATION:Lulu’s Restaurant & Sports Bar\, 16900 Roscoe Blvd.\, Van Nuys\, CA\, 91406\, United States
CATEGORIES:Meetings
ATTACH;FMTTYPE=image/png:https://larrc.org/wp-content/uploads/2019/04/icons8-seafood-100.png
END:VEVENT
BEGIN:VEVENT
DTSTART;TZID=America/Los_Angeles:20200721T200000
DTEND;TZID=America/Los_Angeles:20200722T200000
DTSTAMP:20260422T170854
CREATED:20200309T013301Z
LAST-MODIFIED:20200716T162507Z
UID:2634-1595361600-1595448000@larrc.org
SUMMARY:King of the Calico Overnight – Cancelled
DESCRIPTION:Steve Simon \nJoel Steinman\n(818) 469-2326\njsteinman@socal.rr.com\nwww.22ndstreet.com/boats/truline
URL:https://larrc.org/event/king-of-the-calico-overnight/
LOCATION:22nd St Landing\, San Pedro\, CA
CATEGORIES:Charter,Fishing Trip
ATTACH;FMTTYPE=image/png:https://larrc.org/wp-content/uploads/2019/04/icons8-fishing-boat-filled-100.png
END:VEVENT
BEGIN:VEVENT
DTSTART;TZID=America/Los_Angeles:20200720T180000
DTEND;TZID=America/Los_Angeles:20200720T210000
DTSTAMP:20260422T170854
CREATED:20200119T092846Z
LAST-MODIFIED:20200119T093242Z
UID:2513-1595268000-1595278800@larrc.org
SUMMARY:Board Meeting
DESCRIPTION:
URL:https://larrc.org/event/board-meeting-10/
LOCATION:Lulu’s Restaurant & Sports Bar\, 16900 Roscoe Blvd.\, Van Nuys\, CA\, 91406\, United States
CATEGORIES:Meetings
ATTACH;FMTTYPE=image/png:https://larrc.org/wp-content/uploads/2019/04/icons8-people-80.png
END:VEVENT
BEGIN:VEVENT
DTSTART;TZID=America/Los_Angeles:20200713T110000
DTEND;TZID=America/Los_Angeles:20200713T140000
DTSTAMP:20260422T170854
CREATED:20200120T003627Z
LAST-MODIFIED:20200120T010722Z
UID:2572-1594638000-1594648800@larrc.org
SUMMARY:Kids Trip
DESCRIPTION:
URL:https://larrc.org/event/kids-trip-2/
LOCATION:Uknown Location\, CA\, United States
CATEGORIES:Fishing Trip,Special Event
ATTACH;FMTTYPE=image/png:https://larrc.org/wp-content/uploads/2019/04/icons8-pelican-96.png
END:VEVENT
BEGIN:VEVENT
DTSTART;TZID=America/Los_Angeles:20200629T110000
DTEND;TZID=America/Los_Angeles:20200629T140000
DTSTAMP:20260422T170854
CREATED:20200119T095029Z
LAST-MODIFIED:20200119T095029Z
UID:2533-1593428400-1593439200@larrc.org
SUMMARY:Dinner Meeting
DESCRIPTION:
URL:https://larrc.org/event/dinner-meeting-9/
LOCATION:Lulu’s Restaurant & Sports Bar\, 16900 Roscoe Blvd.\, Van Nuys\, CA\, 91406\, United States
CATEGORIES:Meetings
ATTACH;FMTTYPE=image/png:https://larrc.org/wp-content/uploads/2019/04/icons8-seafood-100.png
END:VEVENT
BEGIN:VEVENT
DTSTART;TZID=America/Los_Angeles:20200622T180000
DTEND;TZID=America/Los_Angeles:20200622T210000
DTSTAMP:20260422T170854
CREATED:20200119T092706Z
LAST-MODIFIED:20200119T092706Z
UID:2511-1592848800-1592859600@larrc.org
SUMMARY:Board Meeting
DESCRIPTION:
URL:https://larrc.org/event/board-meeting-9/
LOCATION:Lulu’s Restaurant & Sports Bar\, 16900 Roscoe Blvd.\, Van Nuys\, CA\, 91406\, United States
CATEGORIES:Meetings
ATTACH;FMTTYPE=image/png:https://larrc.org/wp-content/uploads/2019/04/icons8-people-80.png
END:VEVENT
BEGIN:VEVENT
DTSTART;TZID=America/Los_Angeles:20200518T110000
DTEND;TZID=America/Los_Angeles:20200518T140000
DTSTAMP:20260422T170854
CREATED:20200119T094454Z
LAST-MODIFIED:20200119T094554Z
UID:2529-1589799600-1589810400@larrc.org
SUMMARY:Dinner Meeting
DESCRIPTION:
URL:https://larrc.org/event/dinner-meeting-7/
LOCATION:Lulu’s Restaurant & Sports Bar\, 16900 Roscoe Blvd.\, Van Nuys\, CA\, 91406\, United States
CATEGORIES:Meetings
ATTACH;FMTTYPE=image/png:https://larrc.org/wp-content/uploads/2019/04/icons8-seafood-100.png
END:VEVENT
BEGIN:VEVENT
DTSTART;TZID=America/Los_Angeles:20200513T070000
DTEND;TZID=America/Los_Angeles:20200513T210000
DTSTAMP:20260422T170854
CREATED:20200119T101123Z
LAST-MODIFIED:20200309T003846Z
UID:2560-1589353200-1589403600@larrc.org
SUMMARY:Vets Trip May 2020
DESCRIPTION:Betty O\nDock 52. Fuji Way\nMarina del Rey\n7:00 am departure\nContact Steve Simon Bigfish44@yahoo.com 818 469 7651
URL:https://larrc.org/event/vets-trip-2/
LOCATION:Betty O\, Dock 52. Fuji Way\, Marina del Rey\, CA\, 90292\, United States
CATEGORIES:Fishing Trip,Special Event
ATTACH;FMTTYPE=image/png:https://larrc.org/wp-content/uploads/2020/01/iconfinder_Veterans_Day_4937460.png
END:VEVENT
BEGIN:VEVENT
DTSTART;TZID=America/Los_Angeles:20200511T180000
DTEND;TZID=America/Los_Angeles:20200511T210000
DTSTAMP:20260422T170854
CREATED:20200119T092635Z
LAST-MODIFIED:20200119T092635Z
UID:2509-1589220000-1589230800@larrc.org
SUMMARY:Board Meeting
DESCRIPTION:
URL:https://larrc.org/event/board-meeting-8/
LOCATION:Lulu’s Restaurant & Sports Bar\, 16900 Roscoe Blvd.\, Van Nuys\, CA\, 91406\, United States
CATEGORIES:Meetings
ATTACH;FMTTYPE=image/png:https://larrc.org/wp-content/uploads/2019/04/icons8-people-80.png
END:VEVENT
BEGIN:VEVENT
DTSTART;TZID=America/Los_Angeles:20200427T110000
DTEND;TZID=America/Los_Angeles:20200427T140000
DTSTAMP:20260422T170854
CREATED:20200119T094715Z
LAST-MODIFIED:20200415T032436Z
UID:2531-1587985200-1587996000@larrc.org
SUMMARY:Dinner Meeting-Cancelled
DESCRIPTION:Cancelled
URL:https://larrc.org/event/dinner-meeting-8/
LOCATION:Lulu’s Restaurant & Sports Bar\, 16900 Roscoe Blvd.\, Van Nuys\, CA\, 91406\, United States
CATEGORIES:Meetings
ATTACH;FMTTYPE=image/png:https://larrc.org/wp-content/uploads/2019/04/icons8-seafood-100.png
END:VEVENT
BEGIN:VEVENT
DTSTART;TZID=America/Los_Angeles:20200420T180000
DTEND;TZID=America/Los_Angeles:20200420T210000
DTSTAMP:20260422T170854
CREATED:20200119T092600Z
LAST-MODIFIED:20200119T092600Z
UID:2507-1587405600-1587416400@larrc.org
SUMMARY:Board Meeting
DESCRIPTION:
URL:https://larrc.org/event/board-meeting-7/
LOCATION:Lulu’s Restaurant & Sports Bar\, 16900 Roscoe Blvd.\, Van Nuys\, CA\, 91406\, United States
CATEGORIES:Meetings
ATTACH;FMTTYPE=image/png:https://larrc.org/wp-content/uploads/2019/04/icons8-people-80.png
END:VEVENT
BEGIN:VEVENT
DTSTART;TZID=America/Los_Angeles:20200417T073000
DTEND;TZID=America/Los_Angeles:20200417T143000
DTSTAMP:20260422T170854
CREATED:20200119T100850Z
LAST-MODIFIED:20200309T012255Z
UID:2556-1587108600-1587133800@larrc.org
SUMMARY:Annual Lou Berke Trout Derby 2020
DESCRIPTION:Steve Simon
URL:https://larrc.org/event/lou-berke/
LOCATION:Hansen Dam Aquatic Center\, 11798 Foothill Blvd\, Lake View Terrace\, CA\, 91342\, United States
CATEGORIES:Fishing Trip,Special Event
ATTACH;FMTTYPE=image/png:https://larrc.org/wp-content/uploads/2019/04/icons8-fishing-boat-filled-100.png
END:VEVENT
END:VCALENDAR